BEGIN:VCALENDAR
X-WR-TIMEZONE:Europe/Berlin
X-WR-CALNAME:rbb-Kalender
VERSION:2.0
METHOD:PUBLISH
CALSCALE:GREGORIAN
PRODID:rbb-CMS DAY
BEGIN:VEVENT
CLASS:PUBLIC
URL:http://www.rbb-online.de/content/rbb/rbb/taeteropferpolizei/archiv/20140316_1900/taschenraub_lichtenberg.html
DTEND:20140316T192500
DTSTART:20140316T190000
UID:/content/rbb/rbb/taeteropferpolizei/archiv/20140316_1900/taschenraub_lichtenberg
DTSTAMP:20140404T210044
DESCRIPTION:Es ist der 27. Oktober 2013, gegen 17.00 Uhr: Die 72-jährige Marlies O. ist auf dem Weg nach Hause auf der Straße Alt-Friedrichsfelde. Plötzlich wird sie zu Boden gestoßen. Schwer verletzt bleibt sie liegen.\n
SUMMARY:Handtaschenraub in Lichtenberg – Opfer schwer verletzt
END:VEVENT
END:VCALENDAR
