BEGIN:VCALENDAR
X-WR-TIMEZONE:Europe/Berlin
X-WR-CALNAME:rbb-Kalender
VERSION:2.0
METHOD:PUBLISH
CALSCALE:GREGORIAN
PRODID:rbb-CMS DAY
BEGIN:VEVENT
LOCATION:Der rbb Kriminalreport mit Uwe Madel
CLASS:PUBLIC
URL:http://www.rbb-online.de/content/rbb/rbb/taeteropferpolizei/archiv/20140323_1900.html
DTEND:20140323T192500
DTSTART:20140323T190000
UID:/content/rbb/rbb/taeteropferpolizei/archiv/20140323_1900
DTSTAMP:20140404T210032
DESCRIPTION:+++ Joggerin sexuell belästigt – wer kennt den Täter? +++ Der Tote aus dem Jungfernheidepark heißt Marek Banaszyk +++ Kassenraub im Einrichtungshaus +++ Im Zeichen der Solidarität und Verantwortung: Tag der Kriminalitätsopfer +++ Moderation: Uwe Madel\n\n\n
SUMMARY:Täter - Opfer - Polizei vom 23.03.2014
END:VEVENT
END:VCALENDAR
