BEGIN:VCALENDAR
X-WR-TIMEZONE:Europe/Berlin
X-WR-CALNAME:rbb-Kalender
VERSION:2.0
METHOD:PUBLISH
CALSCALE:GREGORIAN
PRODID:rbb-CMS DAY
BEGIN:VEVENT
CLASS:PUBLIC
URL:http://www.rbb-online.de/content/rbb/rbb/taeteropferpolizei/archiv/20140323_1900/fahndung_tankstellenraub_buckow.html
DTEND:20140323T192500
DTSTART:20140323T190000
UID:/content/rbb/rbb/taeteropferpolizei/archiv/20140323_1900/fahndung_tankstellenraub_buckow
DTSTAMP:20140404T205843
DESCRIPTION:Die Raubermittler in Berlin-Neukölln suchen nach einem Tankstellenräuber. Der Mann hat am 4. Dezember 2013, einem Mittwoch, eine Tankstelle in der Johannisthaler Chaussee in Berlin-Buckow überfallen.\n
SUMMARY:Wer kennt den Tankstellenräuber von Berlin-Buckow?
END:VEVENT
END:VCALENDAR
