BEGIN:VCALENDAR
X-WR-TIMEZONE:Europe/Berlin
X-WR-CALNAME:rbb-Kalender
VERSION:2.0
METHOD:PUBLISH
CALSCALE:GREGORIAN
PRODID:rbb-CMS DAY
BEGIN:VEVENT
CLASS:PUBLIC
URL:http://www.rbb-online.de/content/rbb/rbb/taeteropferpolizei/archiv/20140330_1900/cartoon_raederwerk.html
DTEND:20140330T192500
DTSTART:20140330T190000
UID:/content/rbb/rbb/taeteropferpolizei/archiv/20140330_1900/cartoon_raederwerk
DTSTAMP:20140404T210237
DESCRIPTION:Bernie ist sauer: Kay lässt ihn schon eine ganze Weile auf seine 500 Euro warten: „Ich bin gerade ein bisschen klamm, weißt du?“ Bernie weiß - er hat diesen Satz schon ein paarmal gehört.\n\n\n\n\n
SUMMARY:Griff ins Räderwerk
END:VEVENT
END:VCALENDAR
