BEGIN:VCALENDAR
X-WR-TIMEZONE:Europe/Berlin
X-WR-CALNAME:rbb-Kalender
VERSION:2.0
METHOD:PUBLISH
CALSCALE:GREGORIAN
PRODID:rbb-CMS DAY
BEGIN:VEVENT
CLASS:PUBLIC
URL:http://www.rbb-online.de/content/rbb/rbb/taeteropferpolizei/archiv/20140330_1900/klinkendiebstahl_charlottenburg.html
DTEND:20140330T192500
DTSTART:20140330T190000
UID:/content/rbb/rbb/taeteropferpolizei/archiv/20140330_1900/klinkendiebstahl_charlottenburg
DTSTAMP:20140404T210425
DESCRIPTION:Eine bessere Tarnung als ein Baugerüst können Diebe sich nicht wünschen. In der Joachimsthaler Straße 30 in Berlin-Charlottenburg verbirgt sich dahinter ein denkmalgeschütztes Gründerzeithaus. Seit mehr als 120 Jahren schmücken reich verzierte Messingbeschläge die Zimmertüren.\n\n\n
SUMMARY:Hier geben sich Diebe die Klinke in die Hand
END:VEVENT
END:VCALENDAR
