BEGIN:VCALENDAR
X-WR-TIMEZONE:Europe/Berlin
X-WR-CALNAME:rbb-Kalender
VERSION:2.0
METHOD:PUBLISH
CALSCALE:GREGORIAN
PRODID:rbb-CMS DAY
BEGIN:VEVENT
CLASS:PUBLIC
URL:http://www.rbb-online.de/content/rbb/rbb/taeteropferpolizei/archiv/20140406_1900/cartoon_rente_gut.html
DTEND:20140406T192500
DTSTART:20140406T190000
UID:/content/rbb/rbb/taeteropferpolizei/archiv/20140406_1900/cartoon_rente_gut
DTSTAMP:20140408T061210
DESCRIPTION:Altenpflege ist, wenn besonders viel gearbeitet und dabei besonders wenig verdient wird. Doch wenn Altenpflegerin Marion frühmorgens die erste Seniorenwohnung aufschließt, geht für die 92-jährige Ilse die Sonne auf.\n\n\n
SUMMARY:Rente gut, alles gut!
END:VEVENT
END:VCALENDAR
