BEGIN:VCALENDAR
X-WR-TIMEZONE:Europe/Berlin
X-WR-CALNAME:rbb-Kalender
VERSION:2.0
METHOD:PUBLISH
CALSCALE:GREGORIAN
PRODID:rbb-CMS DAY
BEGIN:VEVENT
CLASS:PUBLIC
URL:http://www.rbb-online.de/content/rbb/rbb/taeteropferpolizei/archiv/20140406_1900/fahndung_einbrecher_vogelsdorf_borgsdorf.html
DTEND:20140406T192500
DTSTART:20140406T190000
UID:/content/rbb/rbb/taeteropferpolizei/archiv/20140406_1900/fahndung_einbrecher_vogelsdorf_borgsdorf
DTSTAMP:20140408T061141
DESCRIPTION:Lange Zeit konnten sich Wohnungseinbrecher sicher sein: wenn sie irgendwo einstiegen, lieferten sie kaum Material für die Öffentlichkeitsfahndung; ein Wohnhaus ist keine Bank - Kameras waren dort nicht zu befürchten. Das ändert sich allmählich, auch private Hausbesitzer rüsten auf.\n\n\n
SUMMARY:Scharfe Bilder – auch Einfamilienhäuser haben jetzt Überwachungskameras
END:VEVENT
END:VCALENDAR
