BEGIN:VCALENDAR
X-WR-TIMEZONE:Europe/Berlin
X-WR-CALNAME:rbb-Kalender
VERSION:2.0
METHOD:PUBLISH
CALSCALE:GREGORIAN
PRODID:rbb-CMS DAY
BEGIN:VEVENT
CLASS:PUBLIC
URL:http://www.rbb-online.de/content/rbb/rbb/taeteropferpolizei/archiv/20140406_1900/fahndung_spaetkauf_neukoelln.html
DTEND:20140406T192500
DTSTART:20140406T190000
UID:/content/rbb/rbb/taeteropferpolizei/archiv/20140406_1900/fahndung_spaetkauf_neukoelln
DTSTAMP:20140408T061102
DESCRIPTION:Die Berliner Raubermittler suchen nach zwei Unbekannten, die am 06. November 2013, einem Mittwoch, einen Spätkauf in Neukölln überfallen haben.\n\n\n
SUMMARY:Wer kennt die Spätkauf-Räuber aus der Braunschweiger Straße?
END:VEVENT
END:VCALENDAR
