BEGIN:VCALENDAR
X-WR-TIMEZONE:Europe/Berlin
X-WR-CALNAME:rbb-Kalender
VERSION:2.0
METHOD:PUBLISH
CALSCALE:GREGORIAN
PRODID:rbb-CMS DAY
BEGIN:VEVENT
CLASS:PUBLIC
URL:http://www.rbb-online.de/content/rbb/rbb/taeteropferpolizei/archiv/20140406_1900/raub_breitscheidplatz.html
DTEND:20140406T192500
DTSTART:20140406T190000
UID:/content/rbb/rbb/taeteropferpolizei/archiv/20140406_1900/raub_breitscheidplatz
DTSTAMP:20140408T061055
DESCRIPTION:Die Berliner City-West zwischen Budapester und Tauentzienstraße bei Nacht: Es ist Sonnabend, der 19. Oktober 2013, gegen 01.20 Uhr. Ein 18-jähriger Schüler verlässt das Europacenter. Er kommt von einer Geburtstagsfeier und will zum Bus.\n
SUMMARY:Erpresst und beraubt!
END:VEVENT
END:VCALENDAR
