BEGIN:VCALENDAR
X-WR-TIMEZONE:Europe/Berlin
X-WR-CALNAME:rbb-Kalender
VERSION:2.0
METHOD:PUBLISH
CALSCALE:GREGORIAN
PRODID:rbb-CMS DAY
BEGIN:VEVENT
CLASS:PUBLIC
URL:http://www.rbb-online.de/content/rbb/rbb/termin-bei-guse/archiv/termin-bei-guse3.html
DTEND:20130905T224500
DTSTART:20130905T224500
UID:/content/rbb/rbb/termin-bei-guse/archiv/termin-bei-guse3
DTSTAMP:20140405T184234
DESCRIPTION:Frank Steffel (CDU) hat einen "Termin bei Guse". Der sportliche Bundestagsabgeordnete aus Reinickendorf trifft auf den passionierten Wollmützenträger Chris Guse aus Kreuzberg.\n\n\n
SUMMARY:Termin bei Guse (3)
END:VEVENT
END:VCALENDAR
