BEGIN:VCALENDAR
X-WR-TIMEZONE:Europe/Berlin
X-WR-CALNAME:rbb-Kalender
VERSION:2.0
METHOD:PUBLISH
CALSCALE:GREGORIAN
PRODID:rbb-CMS DAY
BEGIN:VEVENT
CLASS:PUBLIC
URL:http://www.rbb-online.de/content/rbb/rbb/thadeusz/thadeusz-archiv/ali-guengoermues.html
DTEND:20130806T230000
DTSTART:20130806T221500
UID:/content/rbb/rbb/thadeusz/thadeusz-archiv/ali-guengoermues
DTSTAMP:20140407T071353
DESCRIPTION:Er ist der einzige türkischstämmige Sternekoch weltweit und verweigert trotz seiner eindrucksvollen Vita, die als Blaupause für ein Integrationsmärchen taugen könnte, das Label des Vorzeigemigranten. Ali Güngörmüş persönlicher Erfolgsschlüssel ist stattdessen ziemlich handfest und pragmatisch: "Wer ohne gute Bildung etwas erreichen will, muss sich jeden Tag in den Hintern treten und auch mal Dreck fressen."\n
SUMMARY:Ali Güngörmüs
END:VEVENT
END:VCALENDAR
