BEGIN:VCALENDAR
X-WR-TIMEZONE:Europe/Berlin
X-WR-CALNAME:rbb-Kalender
VERSION:2.0
METHOD:PUBLISH
CALSCALE:GREGORIAN
PRODID:rbb-CMS DAY
BEGIN:VEVENT
CLASS:PUBLIC
URL:http://www.rbb-online.de/content/rbb/rbb/thadeusz/thadeusz-archiv/arved-fuchs.html
DTEND:20130528T221500
DTSTART:20130528T221500
UID:/content/rbb/rbb/thadeusz/thadeusz-archiv/arved-fuchs
DTSTAMP:20140407T071048
DESCRIPTION:Seit er 1989 als erster Mensch der Welt innerhalb eines Jahres gleich beide Pole mit dem Schlitten erreichte, ist der Extrem-Abenteurer weit über Deutschland hinaus bekannt. Immer wieder zog und zieht es ihn in arktische Gefilde mit deren Eiseskälte und damit in die Grenzbereiche menschlicher Leistungsfähigkeit.\n\n\n
SUMMARY:Arved Fuchs
END:VEVENT
END:VCALENDAR
