BEGIN:VCALENDAR
X-WR-TIMEZONE:Europe/Berlin
X-WR-CALNAME:rbb-Kalender
VERSION:2.0
METHOD:PUBLISH
CALSCALE:GREGORIAN
PRODID:rbb-CMS DAY
BEGIN:VEVENT
CLASS:PUBLIC
URL:http://www.rbb-online.de/content/rbb/rbb/thadeusz/thadeusz-archiv/britta_heidemann.html
DTEND:20131126T224500
DTSTART:20131126T221500
UID:/content/rbb/rbb/thadeusz/thadeusz-archiv/britta_heidemann
DTSTAMP:20140407T070956
DESCRIPTION:Sie ist das "Gesicht des Fechtsports" (FAZ) und "vereint alles in sich, was Massenmedien mögen." (SZ): Britta Heidemann hat es geschafft, einen Sport populär zu machen, der bis dahin ein Schattendasein fristete. Spätestens mit dem dramatischen Halbfinal-Duell bei den Olympischen Spielen 2012 in London wurde sie weltbekannt.\n
SUMMARY:Britta Heidemann
END:VEVENT
END:VCALENDAR
