BEGIN:VCALENDAR
X-WR-TIMEZONE:Europe/Berlin
X-WR-CALNAME:rbb-Kalender
VERSION:2.0
METHOD:PUBLISH
CALSCALE:GREGORIAN
PRODID:rbb-CMS DAY
BEGIN:VEVENT
CLASS:PUBLIC
URL:http://www.rbb-online.de/content/rbb/rbb/thadeusz/thadeusz-archiv/cornelia-funke.html
DTEND:20131008T224500
DTSTART:20131008T221500
UID:/content/rbb/rbb/thadeusz/thadeusz-archiv/cornelia-funke
DTSTAMP:20140407T071326
DESCRIPTION:Jakob und Wilhelm Grimm haben den Märchen der Deutschen und ihren Figuren zu Weltruhm verholfen. Knapp 200 Jahre später tritt eine Geschichtenerzählerin in die großen Fußstapfen der Gebrüder: Cornelia Funkes Bücher wurden bisher in über 40 Sprachen übersetzt und weltweit mehr als 20 Millionen Mal verkauft.\n
SUMMARY:Cornelia Funke 
END:VEVENT
END:VCALENDAR
