BEGIN:VCALENDAR
X-WR-TIMEZONE:Europe/Berlin
X-WR-CALNAME:rbb-Kalender
VERSION:2.0
METHOD:PUBLISH
CALSCALE:GREGORIAN
PRODID:rbb-CMS DAY
BEGIN:VEVENT
CLASS:PUBLIC
URL:http://www.rbb-online.de/content/rbb/rbb/thadeusz/thadeusz-archiv/gerd_ruge.html
DTEND:20130730T221500
DTSTART:20130730T221500
UID:/content/rbb/rbb/thadeusz/thadeusz-archiv/gerd_ruge
DTSTAMP:20140407T071430
DESCRIPTION:Es gibt immer weniger Menschen, die die bedeutenden Ereignisse der Nachkriegsgeschichte in Ost und West persönlich erlebt und von diesen auch noch berichtet haben. Es gibt noch weniger, die dies auf eine so präzise und fesselnde Art und Weise getan haben und tun, wie er: der Journalist Gerd Ruge. Im August feiert er seinen 85. Geburtstag und hat mit "Unterwegs" gerade seine politischen Erinnerungen veröffentlicht.\n\n\n
SUMMARY:Gerd Ruge
END:VEVENT
END:VCALENDAR
