BEGIN:VCALENDAR
X-WR-TIMEZONE:Europe/Berlin
X-WR-CALNAME:rbb-Kalender
VERSION:2.0
METHOD:PUBLISH
CALSCALE:GREGORIAN
PRODID:rbb-CMS DAY
BEGIN:VEVENT
CLASS:PUBLIC
URL:http://www.rbb-online.de/content/rbb/rbb/thadeusz/thadeusz-archiv/gregor_gysi.html
DTEND:20140304T224500
DTSTART:20140304T221500
UID:/content/rbb/rbb/thadeusz/thadeusz-archiv/gregor_gysi
DTSTAMP:20140405T040101
DESCRIPTION:Wenn Gregor Gysi eines kann, dann ist es Opposition: Bereits 1990 saß er für die PDS im ersten gesamtdeutschen Bundestag. Seit Dezember 2013 ist die Linke größte Oppositionsfraktion im Bundestag und Gysi damit Oppositionsführer.\n
SUMMARY:Gregor Gysi
END:VEVENT
END:VCALENDAR
