BEGIN:VCALENDAR
X-WR-TIMEZONE:Europe/Berlin
X-WR-CALNAME:rbb-Kalender
VERSION:2.0
METHOD:PUBLISH
CALSCALE:GREGORIAN
PRODID:rbb-CMS DAY
BEGIN:VEVENT
CLASS:PUBLIC
URL:http://www.rbb-online.de/content/rbb/rbb/thadeusz/thadeusz-archiv/john_kornblum_.html
DTEND:20130625T221500
DTSTART:20130625T221500
UID:/content/rbb/rbb/thadeusz/thadeusz-archiv/john_kornblum_
DTSTAMP:20140407T071207
DESCRIPTION:Kaum ist der amtierende US-Präsident wieder abgereist, erinnert sich Berlin an seinen berühmten Vorgänger, dessen Solidaritätsbekundung für die damals geteilte Stadt bis heute nichts von ihrem Gänsehautfaktor eingebüßt hat.\n
SUMMARY:John Kornblum
END:VEVENT
END:VCALENDAR
