BEGIN:VCALENDAR
X-WR-TIMEZONE:Europe/Berlin
X-WR-CALNAME:rbb-Kalender
VERSION:2.0
METHOD:PUBLISH
CALSCALE:GREGORIAN
PRODID:rbb-CMS DAY
BEGIN:VEVENT
CLASS:PUBLIC
URL:http://www.rbb-online.de/content/rbb/rbb/thadeusz/thadeusz-archiv/juergen-trittin.html
DTEND:20130618T221500
DTSTART:20130618T221500
UID:/content/rbb/rbb/thadeusz/thadeusz-archiv/juergen-trittin
DTSTAMP:20140407T071112
DESCRIPTION:Er ist ein Grüner der ersten Stunde. Und das mit Herzblut. Gleich 1980 trat er der damals neu gegründeten Partei bei. Fünf Jahre später saß er bereits als Fraktionsvorsitzender der Grünen im niedersächsischen Landtag, traf dort auf Gerhard Schröder, der ihn 1990 zum Minister für Bundes- und Europaangelegenheiten machte. Gemeinsam mit Schröder sitzt er dann auch 1998 in der ersten rot-grünen Bundesregierung als Bundesumweltminister.\n
SUMMARY:Jürgen Trittin
END:VEVENT
END:VCALENDAR
