BEGIN:VCALENDAR
X-WR-TIMEZONE:Europe/Berlin
X-WR-CALNAME:rbb-Kalender
VERSION:2.0
METHOD:PUBLISH
CALSCALE:GREGORIAN
PRODID:rbb-CMS DAY
BEGIN:VEVENT
CLASS:PUBLIC
URL:http://www.rbb-online.de/content/rbb/rbb/thadeusz/thadeusz-archiv/katarina_witt.html
DTEND:20140218T224500
DTSTART:20140218T221500
UID:/content/rbb/rbb/thadeusz/thadeusz-archiv/katarina_witt
DTSTAMP:20140405T040334
DESCRIPTION:Die gebürtige Staakenerin Katarina Witt ist zweifache Olympiasiegerin, vierfache Weltmeisterin und fünffache Europameisterin. Sie ist nicht nur eine der erfolgreichsten Eiskunstläuferin der Geschichte, sondern eindeutig auch die attraktivste.\n
SUMMARY:Katarina Witt
END:VEVENT
END:VCALENDAR
