BEGIN:VCALENDAR
X-WR-TIMEZONE:Europe/Berlin
X-WR-CALNAME:rbb-Kalender
VERSION:2.0
METHOD:PUBLISH
CALSCALE:GREGORIAN
PRODID:rbb-CMS DAY
BEGIN:VEVENT
CLASS:PUBLIC
URL:http://www.rbb-online.de/content/rbb/rbb/thadeusz/thadeusz-archiv/leander_haussmann.html
DTEND:20131203T224500
DTSTART:20131203T221500
UID:/content/rbb/rbb/thadeusz/thadeusz-archiv/leander_haussmann
DTSTAMP:20140405T040246
DESCRIPTION:Er ist Berliner, genauer gesagt Friedrichshagener, obwohl in seinem Pass als Geburtsort Quedlinburg vermerkt wurde. Als DDR-Bürger, Schauspieler und Regisseur hat Leander Haußmann jedoch weitaus größere und schönere Niederlagen als diese erlebt. In seinem Buch "BUH. Mein Weg zu Reichtum, Schönheit und Glück" dürfen die Leser mit ihm scheitern.\n
SUMMARY:Leander Haußmann
END:VEVENT
END:VCALENDAR
