BEGIN:VCALENDAR
X-WR-TIMEZONE:Europe/Berlin
X-WR-CALNAME:rbb-Kalender
VERSION:2.0
METHOD:PUBLISH
CALSCALE:GREGORIAN
PRODID:rbb-CMS DAY
BEGIN:VEVENT
CLASS:PUBLIC
URL:http://www.rbb-online.de/content/rbb/rbb/thadeusz/thadeusz-archiv/marcel-reif.html
DTEND:20130514T221500
DTSTART:20130514T221500
UID:/content/rbb/rbb/thadeusz/thadeusz-archiv/marcel-reif
DTSTAMP:20140407T071137
DESCRIPTION:Für eine ganze Generation Fußballbegeisterter sind seine Kommentare wahlweise Zumutung oder Hochgenuss, nicht wenige halten ihn sogar für den Besten seines Metiers. Fest steht jedenfalls: Ob aus den Stadien der Bundesliga oder von Spielen der Weltmeisterschaft - seit Marcel Reif mittlerweile fast 20 Jahre lang von der Jagd auf das runde Leder berichtet, klingt Fußballberichterstattung modern, wortgewandt und lässig.\n
SUMMARY:Marcel Reif
END:VEVENT
END:VCALENDAR
