BEGIN:VCALENDAR
X-WR-TIMEZONE:Europe/Berlin
X-WR-CALNAME:rbb-Kalender
VERSION:2.0
METHOD:PUBLISH
CALSCALE:GREGORIAN
PRODID:rbb-CMS DAY
BEGIN:VEVENT
CLASS:PUBLIC
URL:http://www.rbb-online.de/content/rbb/rbb/thadeusz/thadeusz-archiv/matthias_platzeck.html
DTEND:20131112T224500
DTSTART:20131112T221500
UID:/content/rbb/rbb/thadeusz/thadeusz-archiv/matthias_platzeck
DTSTAMP:20140407T070928
DESCRIPTION:Wenn er sein spitzbübisches Lächeln zeigte, wollten ihm die Menschen am liebsten alles glauben. Gelernter Diplomingenieur, ein Quereinsteiger in die Politik, Familienvater, Jeansträger – Matthias Platzeck war immer der Sonnyboy der Politik.\n
SUMMARY:Matthias Platzeck
END:VEVENT
END:VCALENDAR
