BEGIN:VCALENDAR
X-WR-TIMEZONE:Europe/Berlin
X-WR-CALNAME:rbb-Kalender
VERSION:2.0
METHOD:PUBLISH
CALSCALE:GREGORIAN
PRODID:rbb-CMS DAY
BEGIN:VEVENT
CLASS:PUBLIC
URL:http://www.rbb-online.de/content/rbb/rbb/thadeusz/thadeusz-archiv/peter-schneider.html
DTEND:20130827T224500
DTSTART:20130827T221500
UID:/content/rbb/rbb/thadeusz/thadeusz-archiv/peter-schneider
DTSTAMP:20140407T071416
DESCRIPTION:Er ist einer der bekanntesten deutschen Schriftsteller unserer Zeit. Chronist und Romancier der Studentenrevolte und Wegbereiter der 68er. Als Aktivist, Wortführer und Kampfgefährte von Rudi Dutschke hat Peter Schneider alle Phasen der Protestbewegung intensiv durchlebt.\n
SUMMARY:Peter Schneider
END:VEVENT
END:VCALENDAR
