BEGIN:VCALENDAR
X-WR-TIMEZONE:Europe/Berlin
X-WR-CALNAME:rbb-Kalender
VERSION:2.0
METHOD:PUBLISH
CALSCALE:GREGORIAN
PRODID:rbb-CMS DAY
BEGIN:VEVENT
CLASS:PUBLIC
URL:http://www.rbb-online.de/content/rbb/rbb/thadeusz/thadeusz-archiv/wigald_boning.html
DTEND:20140204T224500
DTSTART:20140204T221500
UID:/content/rbb/rbb/thadeusz/thadeusz-archiv/wigald_boning
DTSTAMP:20140405T040421
DESCRIPTION:Berühmt wurde Wigald Boning in quietschbunten Anzügen mit Kunstrasenapplikationen. Als Partner Olli Dittrichs in der Blödel-Combo "Die Doofen" sang er "Nimm mich jetzt, auch wenn ich stinke". Mit dieser Textzeile stürmten die Jungmusiker 1995 die Charts und tourten sogar mit Bon Jovi durch Deutschlands Stadien.\n
SUMMARY:Wigald Boning
END:VEVENT
END:VCALENDAR
