BEGIN:VCALENDAR
X-WR-TIMEZONE:Europe/Berlin
X-WR-CALNAME:rbb-Kalender
VERSION:2.0
METHOD:PUBLISH
CALSCALE:GREGORIAN
PRODID:rbb-CMS DAY
BEGIN:VEVENT
CLASS:PUBLIC
URL:http://www.rbb-online.de/content/rbb/rbb/thadeusz/thadeusz-archiv/wolfgang-schaueble.html
DTEND:20130903T224500
DTSTART:20130903T221500
UID:/content/rbb/rbb/thadeusz/thadeusz-archiv/wolfgang-schaueble
DTSTAMP:20140407T071315
DESCRIPTION:19 Tage sind es noch bis zur Bundestagswahl, und die heiße Phase des Wahlkampfes hätte längst beginnen müssen. Doch es ist spätsommerlich mild in Deutschland. Das dürfte Bundesfinanzminister Wolfgang Schäuble (CDU) gefallen. Sieht er sich doch als "fröhlichen Sisyphos", der bedacht das Richtige und Wichtige tut und die Stimmen der Wähler eher als Dank und Wertschätzung wahrnimmt.\n
SUMMARY:Wolfgang Schäuble
END:VEVENT
END:VCALENDAR
