BEGIN:VCALENDAR
X-WR-TIMEZONE:Europe/Berlin
X-WR-CALNAME:rbb-Kalender
VERSION:2.0
METHOD:PUBLISH
CALSCALE:GREGORIAN
PRODID:rbb-CMS DAY
BEGIN:VEVENT
LOCATION:Geschichte(n) aus der Mark
CLASS:PUBLIC
URL:http://www.rbb-online.de/content/rbb/rbb/theodor/archiv/20130908_1832.html
DTEND:20130908T190000
DTSTART:20130908T183200
UID:/content/rbb/rbb/theodor/archiv/20130908_1832
DTSTAMP:20140405T211722
DESCRIPTION:Das Sportabzeichen – (k)eine glänzende Geschichte +++ Ruderer immer hart an der Grenze +++ Spielgeräte und Erinnerungen aus Turnvater Jahns Zeiten +++ Wie das Vereinsleben in die Mark kam +++ Moderation: Gerald Meyer\n\n\n
SUMMARY:Theodor 08.09.2013 18:32
END:VEVENT
END:VCALENDAR
