BEGIN:VCALENDAR
X-WR-TIMEZONE:Europe/Berlin
X-WR-CALNAME:rbb-Kalender
VERSION:2.0
METHOD:PUBLISH
CALSCALE:GREGORIAN
PRODID:rbb-CMS DAY
BEGIN:VEVENT
CLASS:PUBLIC
URL:http://www.rbb-online.de/content/rbb/rbb/theodor/archiv/20130908_1832/Fuballspiel.html
DTEND:20130908T190000
DTSTART:20130908T183200
UID:/content/rbb/rbb/theodor/archiv/20130908_1832/Fuballspiel
DTSTAMP:20140406T202852
DESCRIPTION:FSV Glückauf Brieske gegen Torpedo Moskau, das war ein legendäres Freundschaftsspiel, das bis heute in der Lausitz unvergessen ist. Das gerade neu erbaute "Glück-Auf-Stadion" in Brieske wurde am 4. November 1953 eröffnet mit einem Spiel gegen die Stars der Moskauer Mannschaft.\n\n\n\n\n
SUMMARY:Legendäres Fußballspiel
END:VEVENT
END:VCALENDAR
