BEGIN:VCALENDAR
X-WR-TIMEZONE:Europe/Berlin
X-WR-CALNAME:rbb-Kalender
VERSION:2.0
METHOD:PUBLISH
CALSCALE:GREGORIAN
PRODID:rbb-CMS DAY
BEGIN:VEVENT
CLASS:PUBLIC
URL:http://www.rbb-online.de/content/rbb/rbb/theodor/archiv/20130908_1832/Ruderer.html
DTEND:20130908T190000
DTSTART:20130908T183200
UID:/content/rbb/rbb/theodor/archiv/20130908_1832/Ruderer
DTSTAMP:20140406T202847
DESCRIPTION:Bis zu hundert Jahre alte Boote aus Holz und später auch aus Kunststoff lagern in den Hallen des Schülerruderverbandes Wannsee. Viele haben zwei Weltkriege überlebt und wurden von Westberlin häufig entlang der Grenze zur DDR gerudert und manchmal auch darüber hinaus.\n\n\n
SUMMARY:Ruderer hart an der Grenze
END:VEVENT
END:VCALENDAR
