BEGIN:VCALENDAR
X-WR-TIMEZONE:Europe/Berlin
X-WR-CALNAME:rbb-Kalender
VERSION:2.0
METHOD:PUBLISH
CALSCALE:GREGORIAN
PRODID:rbb-CMS DAY
BEGIN:VEVENT
LOCATION:Geschichte(n) aus der Mark
CLASS:PUBLIC
URL:http://www.rbb-online.de/content/rbb/rbb/theodor/archiv/20130922_1832.html
DTEND:20130922T190000
DTSTART:20130922T183200
UID:/content/rbb/rbb/theodor/archiv/20130922_1832
DTSTAMP:20140405T211450
DESCRIPTION:Diesmal zum Thema: Fischer und Fische\nDer Fischerkiez von Lebus +++ Wie der Hering nach Frankfurt kam +++ Schöner Fasten im Mittelalter +++ Schmuck aus Fisch +++ Der Fischer von Kaniswall +++ „Fritze Bollmann wollte angeln\n\n\n
SUMMARY:Theodor 22.09.2013 18:32
END:VEVENT
END:VCALENDAR
