BEGIN:VCALENDAR
X-WR-TIMEZONE:Europe/Berlin
X-WR-CALNAME:rbb-Kalender
VERSION:2.0
METHOD:PUBLISH
CALSCALE:GREGORIAN
PRODID:rbb-CMS DAY
BEGIN:VEVENT
CLASS:PUBLIC
URL:http://www.rbb-online.de/content/rbb/rbb/theodor/archiv/20130922_1832/Hering.html
DTEND:20130922T190000
DTSTART:20130922T183200
UID:/content/rbb/rbb/theodor/archiv/20130922_1832/Hering
DTSTAMP:20140406T202353
DESCRIPTION:Manchen Besucher wundert es schon, dass vom Giebel des Rathauses ein goldener Hering grüßt. Was hat die Stadt an der Oder mit Heringen zu tun? Sie war tatsächlich bis in die Mitte des 18. Jahrhunderts ein wichtiger Handelsplatz für Heringe an der Oder zwischen Stettin und Breslau.\n\n\n
SUMMARY:Wie der Hering wirklich nach Frankfurt kam
END:VEVENT
END:VCALENDAR
