BEGIN:VCALENDAR
X-WR-TIMEZONE:Europe/Berlin
X-WR-CALNAME:rbb-Kalender
VERSION:2.0
METHOD:PUBLISH
CALSCALE:GREGORIAN
PRODID:rbb-CMS DAY
BEGIN:VEVENT
LOCATION:Geschichte(n) aus der Mark
CLASS:PUBLIC
URL:http://www.rbb-online.de/content/rbb/rbb/theodor/archiv/20131006_1832.html
DTEND:20131006T190000
DTSTART:20131006T183200
UID:/content/rbb/rbb/theodor/archiv/20131006_1832
DTSTAMP:20140405T112654
DESCRIPTION:Eden – das Paradies der Vegetarier +++ Bodenreform: Die große Umverteilung +++ Landwirtschaftskrise nach der Wende +++ Lehrmeister der Landwirtschaft +++ Bauernhochzeiten auf dem Lande\n\n\n
SUMMARY:Theodor 06.10.2013 18:32
END:VEVENT
END:VCALENDAR
