BEGIN:VCALENDAR
X-WR-TIMEZONE:Europe/Berlin
X-WR-CALNAME:rbb-Kalender
VERSION:2.0
METHOD:PUBLISH
CALSCALE:GREGORIAN
PRODID:rbb-CMS DAY
BEGIN:VEVENT
CLASS:PUBLIC
URL:http://www.rbb-online.de/content/rbb/rbb/theodor/archiv/20131006_1832/Eden.html
DTEND:20131006T190000
DTSTART:20131006T183200
UID:/content/rbb/rbb/theodor/archiv/20131006_1832/Eden
DTSTAMP:20140406T120545
DESCRIPTION:1893 trafen sich in einem vegetarischen Berliner Restaurant 18 Männer, um eine kühne Idee zu verwirklichen. Es ging um etwas, das es in Deutschland noch nie gegeben hatte: Eine vegetarische Obstbausiedlung.\n\n\n
SUMMARY:Gartenparadies Eden
END:VEVENT
END:VCALENDAR
