BEGIN:VCALENDAR
X-WR-TIMEZONE:Europe/Berlin
X-WR-CALNAME:rbb-Kalender
VERSION:2.0
METHOD:PUBLISH
CALSCALE:GREGORIAN
PRODID:rbb-CMS DAY
BEGIN:VEVENT
LOCATION:Geschichte(n) aus der Mark
CLASS:PUBLIC
URL:http://www.rbb-online.de/content/rbb/rbb/theodor/archiv/20131020_1832.html
DTEND:20131020T190000
DTSTART:20131020T183200
UID:/content/rbb/rbb/theodor/archiv/20131020_1832
DTSTAMP:20140405T211752
DESCRIPTION:+++ Unterwegs mit dem Röntgenbus +++ Der Landarzt von Niemegk - Robert Koch in Brandenburg +++ Die Beelitzer Heilstätten +++ Unter der "Mottenfahne" - vom Alltag in der Heilstätte Müllrose +++\n\n\n
SUMMARY:Theodor 20.10.2013 18:32
END:VEVENT
END:VCALENDAR
