BEGIN:VCALENDAR
X-WR-TIMEZONE:Europe/Berlin
X-WR-CALNAME:rbb-Kalender
VERSION:2.0
METHOD:PUBLISH
CALSCALE:GREGORIAN
PRODID:rbb-CMS DAY
BEGIN:VEVENT
CLASS:PUBLIC
URL:http://www.rbb-online.de/content/rbb/rbb/theodor/archiv/20131020_1832/robert-koch-in-berlin.html
DTEND:20131020T190000
DTSTART:20131020T183200
UID:/content/rbb/rbb/theodor/archiv/20131020_1832/robert-koch-in-berlin
DTSTAMP:20140406T203005
DESCRIPTION:1882 entdeckt Robert Koch in Berlin den Tuberkulose-Erreger. Die Öffentlichkeit reagiert begeistert. Endlich scheint eine Heilungschance möglich.\n\n\n
SUMMARY:Robert Koch in Berlin
END:VEVENT
END:VCALENDAR
