BEGIN:VCALENDAR
X-WR-TIMEZONE:Europe/Berlin
X-WR-CALNAME:rbb-Kalender
VERSION:2.0
METHOD:PUBLISH
CALSCALE:GREGORIAN
PRODID:rbb-CMS DAY
BEGIN:VEVENT
CLASS:PUBLIC
URL:http://www.rbb-online.de/content/rbb/rbb/theodor/archiv/20131020_1832/robert-koch-niemegk.html
DTEND:20131020T190000
DTSTART:20131020T183200
UID:/content/rbb/rbb/theodor/archiv/20131020_1832/robert-koch-niemegk
DTSTAMP:20140406T202913
DESCRIPTION:Bevor Robert Koch den Tuberkelbazillus entdeckte, war er als junger Landarzt in Brandenburg unterwegs. Er nutzt die Zeit um zu forschen. Das gefiel nicht jedem.\n
SUMMARY:Der Landarzt aus Niemegk
END:VEVENT
END:VCALENDAR
