BEGIN:VCALENDAR
X-WR-TIMEZONE:Europe/Berlin
X-WR-CALNAME:rbb-Kalender
VERSION:2.0
METHOD:PUBLISH
CALSCALE:GREGORIAN
PRODID:rbb-CMS DAY
BEGIN:VEVENT
CLASS:PUBLIC
URL:http://www.rbb-online.de/content/rbb/rbb/theodor/archiv/20131020_1832/unterwegs-mit-dem-roentgenzug.html
DTEND:20131020T190000
DTSTART:20131020T183200
UID:/content/rbb/rbb/theodor/archiv/20131020_1832/unterwegs-mit-dem-roentgenzug
DTSTAMP:20140406T202957
DESCRIPTION:Wenn der Patient oder die Patientin nicht zur Röntgenuntersuchung kommen konnte, kam eben der Röntgenapparat zum Patienten.\n
SUMMARY:Unterwegs mit dem Röntgenzug
END:VEVENT
END:VCALENDAR
