BEGIN:VCALENDAR
X-WR-TIMEZONE:Europe/Berlin
X-WR-CALNAME:rbb-Kalender
VERSION:2.0
METHOD:PUBLISH
CALSCALE:GREGORIAN
PRODID:rbb-CMS DAY
BEGIN:VEVENT
CLASS:PUBLIC
URL:http://www.rbb-online.de/content/rbb/rbb/theodor/archiv/20131201_1832/Autohandel.html
DTEND:20131201T190000
DTSTART:20131201T183200
UID:/content/rbb/rbb/theodor/archiv/20131201_1832/Autohandel
DTSTAMP:20140406T202756
DESCRIPTION:Wer in der DDR nicht ewig auf ein Auto warten wollte, der musste große Summen in die Hand nehmen und dann noch weitere Hindernisse überwinden. Der Handel mit Trabi, Wartburg und Co. folgte nicht dem sozialistischen Gang, sondern den kapitalistischen Gesetzen von Angebot und Nachfrage. Und den Ideen waren kaum Grenzen gesetzt, wenn es darum ging, auf gesetzlichen Schleichwegen den Traum vom Fahren zu verwirklichen.\n\n\n
SUMMARY:Verrückter Autohandel in der DDR
END:VEVENT
END:VCALENDAR
