BEGIN:VCALENDAR
X-WR-TIMEZONE:Europe/Berlin
X-WR-CALNAME:rbb-Kalender
VERSION:2.0
METHOD:PUBLISH
CALSCALE:GREGORIAN
PRODID:rbb-CMS DAY
BEGIN:VEVENT
CLASS:PUBLIC
URL:http://www.rbb-online.de/content/rbb/rbb/theodor/archiv/20131201_1832/Kaufmannsladen.html
DTEND:20131201T190000
DTSTART:20131201T183200
UID:/content/rbb/rbb/theodor/archiv/20131201_1832/Kaufmannsladen
DTSTAMP:20140406T202706
DESCRIPTION:"Komm, wir spielen Kaufmannsladen…“ Mit diesen Worten ziehen seit über 150 Jahren Kinder in eine Phantasie-Welt mit leeren Verkaufsverpackungen und Spielgeld. Die Läden haben viele Zeiten und Moden mitgemacht. Kaufmannsläden aus Kaisers Zeiten gibt es im Spielzeugmuseum Havelland ebenso wie spätere Modelle aus Holz oder Plastik.\n\n\n
SUMMARY:Großeinkauf auf kleiner Fläche
END:VEVENT
END:VCALENDAR
