BEGIN:VCALENDAR
X-WR-TIMEZONE:Europe/Berlin
X-WR-CALNAME:rbb-Kalender
VERSION:2.0
METHOD:PUBLISH
CALSCALE:GREGORIAN
PRODID:rbb-CMS DAY
BEGIN:VEVENT
CLASS:PUBLIC
URL:http://www.rbb-online.de/content/rbb/rbb/theodor/archiv/20131201_1832/Schwarzmarkt.html
DTEND:20131201T190000
DTSTART:20131201T183200
UID:/content/rbb/rbb/theodor/archiv/20131201_1832/Schwarzmarkt
DTSTAMP:20140406T202722
DESCRIPTION:Nach dem Zweiten Weltkrieg blühte in der Mark der Schwarzhandel. Geld war nichts mehr wert und Zigaretten eine gern gehandelte Währung. Viele Brandenburger zogen vom Land mit Lebensmitteln nach Berlin und wollten durch Tauschhandel Wertgegenstände zu ergattern. Mitten drin waren die Soldaten der Siegermächte, die in Zeiten der Not auf ein Schnäppchen hofften.\n\n\n
SUMMARY:Als die Regale leer waren…
END:VEVENT
END:VCALENDAR
