BEGIN:VCALENDAR
X-WR-TIMEZONE:Europe/Berlin
X-WR-CALNAME:rbb-Kalender
VERSION:2.0
METHOD:PUBLISH
CALSCALE:GREGORIAN
PRODID:rbb-CMS DAY
BEGIN:VEVENT
LOCATION:Geschichte(n) aus der Mark
CLASS:PUBLIC
URL:http://www.rbb-online.de/content/rbb/rbb/theodor/archiv/20131215_1832.html
DTEND:20131215T190000
DTSTART:20131215T183200
UID:/content/rbb/rbb/theodor/archiv/20131215_1832
DTSTAMP:20140404T232711
DESCRIPTION:+++ Der erste Adventskalender +++ Der Falkenberger Dorfkalender +++ Vom Hahnenschrei zum Glockenschlag +++ Die Präzisionsuhr vom Telegrafenberg +++ Der Uhrenturm von Wittenberge +++ Der Uhrwerker aus Angermünde +++\n\n\n
SUMMARY:Theodor 15.12.2013 18:32
END:VEVENT
END:VCALENDAR
