BEGIN:VCALENDAR
X-WR-TIMEZONE:Europe/Berlin
X-WR-CALNAME:rbb-Kalender
VERSION:2.0
METHOD:PUBLISH
CALSCALE:GREGORIAN
PRODID:rbb-CMS DAY
BEGIN:VEVENT
CLASS:PUBLIC
URL:http://www.rbb-online.de/content/rbb/rbb/theodor/archiv/20131215_1832/1.html
DTEND:20131215T190000
DTSTART:20131215T183200
UID:/content/rbb/rbb/theodor/archiv/20131215_1832/1
DTSTAMP:20140404T233516
DESCRIPTION:Adventskalender sind eine Erfindung der Neuzeit. Mitte des 19. Jahrhunderts entwickelte sich in protestantischen Waisenhäusern ein Brauch, der sich später in ganz Deutschland verbreiten sollte. Er gilt als Ursprung heutiger Adventskalender.\n
SUMMARY:Der erste Adventskalender
END:VEVENT
END:VCALENDAR
