BEGIN:VCALENDAR
X-WR-TIMEZONE:Europe/Berlin
X-WR-CALNAME:rbb-Kalender
VERSION:2.0
METHOD:PUBLISH
CALSCALE:GREGORIAN
PRODID:rbb-CMS DAY
BEGIN:VEVENT
CLASS:PUBLIC
URL:http://www.rbb-online.de/content/rbb/rbb/theodor/archiv/20131215_1832/3.html
DTEND:20131215T190000
DTSTART:20131215T183200
UID:/content/rbb/rbb/theodor/archiv/20131215_1832/3
DTSTAMP:20140404T232823
DESCRIPTION:Zunächst organisierten die Bauern ihr Leben nach Hahnenschrei und Sonnengang. Später kam die Uhrzeit übers Land. Zunächst waren es Mönche, die Kerzenuhren mit Weckfunktion nutzten.\n
SUMMARY:Vom Hahnenschrei zum Glockenschlag
END:VEVENT
END:VCALENDAR
