BEGIN:VCALENDAR
X-WR-TIMEZONE:Europe/Berlin
X-WR-CALNAME:rbb-Kalender
VERSION:2.0
METHOD:PUBLISH
CALSCALE:GREGORIAN
PRODID:rbb-CMS DAY
BEGIN:VEVENT
LOCATION:Geschichte(n) aus der Mark
CLASS:PUBLIC
URL:http://www.rbb-online.de/content/rbb/rbb/theodor/archiv/20140112_1832.html
DTEND:20140112T190000
DTSTART:20140112T183200
UID:/content/rbb/rbb/theodor/archiv/20140112_1832
DTSTAMP:20140404T233421
DESCRIPTION:+++ Gesetzlose Gesellschaft +++ Fontane und die Rosenkreuzer +++ Druidenorden in Guben +++ Freimaurer in Cottbus +++ Christian Morgenstern und die Galgenbrüder +++\n\n\n
SUMMARY:Theodor 12.01.2014 18:32
END:VEVENT
END:VCALENDAR
