BEGIN:VCALENDAR
X-WR-TIMEZONE:Europe/Berlin
X-WR-CALNAME:rbb-Kalender
VERSION:2.0
METHOD:PUBLISH
CALSCALE:GREGORIAN
PRODID:rbb-CMS DAY
BEGIN:VEVENT
CLASS:PUBLIC
URL:http://www.rbb-online.de/content/rbb/rbb/theodor/archiv/20140112_1832/Druiden.html
DTEND:20140112T190000
DTSTART:20140112T183200
UID:/content/rbb/rbb/theodor/archiv/20140112_1832/Druiden
DTSTAMP:20140404T233137
DESCRIPTION:1908 gründete sich in Guben die Druidenloge „Zur Hoffnung“. Sie gehörte damit zu den mehr als 260 Druidenlogen in Deutschland, die 1936 von den Nazis verboten worden sind. Zu DDR-Zeiten hielt das Verbot an. Erst 1992 besannen sich einige Gubener auf die Existenz dieses Ordens in ihrer Stadt und gründeten sich neu.\n\n\n
SUMMARY:Druidenorden in Guben
END:VEVENT
END:VCALENDAR
