BEGIN:VCALENDAR
X-WR-TIMEZONE:Europe/Berlin
X-WR-CALNAME:rbb-Kalender
VERSION:2.0
METHOD:PUBLISH
CALSCALE:GREGORIAN
PRODID:rbb-CMS DAY
BEGIN:VEVENT
CLASS:PUBLIC
URL:http://www.rbb-online.de/content/rbb/rbb/theodor/archiv/20140112_1832/Galgenbrueder.html
DTEND:20140112T190000
DTSTART:20140112T183200
UID:/content/rbb/rbb/theodor/archiv/20140112_1832/Galgenbrueder
DTSTAMP:20140404T232835
DESCRIPTION:Mit seinen Galgenliedern schuf Christian Morgenstern vor gut 100 Jahren ein ganz eigenes Genre in der Literatur. Seine grotesken Dichtungen sind bis heute berühmt. Weniger bekannt ist, dass der Name Galgenlieder seinen Ursprung in Brandenburg hat – auf dem Galgenberg in Werder.\n\n\n
SUMMARY:Christian Morgenstern und die Galgenbrüder
END:VEVENT
END:VCALENDAR
