BEGIN:VCALENDAR
X-WR-TIMEZONE:Europe/Berlin
X-WR-CALNAME:rbb-Kalender
VERSION:2.0
METHOD:PUBLISH
CALSCALE:GREGORIAN
PRODID:rbb-CMS DAY
BEGIN:VEVENT
CLASS:PUBLIC
URL:http://www.rbb-online.de/content/rbb/rbb/theodor/archiv/20140126_1832/2.html
DTEND:20140126T190000
DTSTART:20140126T183200
UID:/content/rbb/rbb/theodor/archiv/20140126_1832/2
DTSTAMP:20140404T233041
DESCRIPTION:Staatliche Auftragskunst in der DDR - was war das schon? Sozialistischer Realismus? Proletarische Helden? Weg damit auf den Müll, so mögen viele gedacht haben damals. Doch so eng und staatstragend ist die Kunst in der DDR oftmals gar nicht gewesen.\n\n\n
SUMMARY:Die Rettung der "Feldbaubrigade"
END:VEVENT
END:VCALENDAR
