BEGIN:VCALENDAR
X-WR-TIMEZONE:Europe/Berlin
X-WR-CALNAME:rbb-Kalender
VERSION:2.0
METHOD:PUBLISH
CALSCALE:GREGORIAN
PRODID:rbb-CMS DAY
BEGIN:VEVENT
LOCATION:Geschichte(n) aus der Mark
CLASS:PUBLIC
URL:http://www.rbb-online.de/content/rbb/rbb/theodor/archiv/20140209_18-32.html
DTEND:20140209T190000
DTSTART:20140209T183200
UID:/content/rbb/rbb/theodor/archiv/20140209_18-32
DTSTAMP:20140404T233454
DESCRIPTION:+ Der Möhring-Chor aus Alt Ruppin\n\n+ Weltkriegslieder\n\n+ Roter Adler, braune Vergangenheit\n\n+ Gerhard Gundermanns spröde Heimatlieder\n\n+ Der Lieddichter Paul Gerhardt\n\n
SUMMARY:Theodor 09.02.2014 18:32
END:VEVENT
END:VCALENDAR
