BEGIN:VCALENDAR
X-WR-TIMEZONE:Europe/Berlin
X-WR-CALNAME:rbb-Kalender
VERSION:2.0
METHOD:PUBLISH
CALSCALE:GREGORIAN
PRODID:rbb-CMS DAY
BEGIN:VEVENT
CLASS:PUBLIC
URL:http://www.rbb-online.de/content/rbb/rbb/theodor/archiv/20140209_18-32/Gundermann.html
DTEND:20140209T190000
DTSTART:20140209T183200
UID:/content/rbb/rbb/theodor/archiv/20140209_18-32/Gundermann
DTSTAMP:20140404T233130
DESCRIPTION:Er saß selbst auf dem Kohlebagger und dachte in seinen Liedern kritisch nach über eine Heimat, "von dessen Haut er schon gefressen hat“. Aus der Arbeit und dem Leben im Lausitzer Braunkohlerevier nahm Gerhard Gundermann Inspirationen für eine einzigartige Poesie.\n\n\n
SUMMARY:Gerhard Gundermanns spröde Heimatlieder
END:VEVENT
END:VCALENDAR
