BEGIN:VCALENDAR
X-WR-TIMEZONE:Europe/Berlin
X-WR-CALNAME:rbb-Kalender
VERSION:2.0
METHOD:PUBLISH
CALSCALE:GREGORIAN
PRODID:rbb-CMS DAY
BEGIN:VEVENT
CLASS:PUBLIC
URL:http://www.rbb-online.de/content/rbb/rbb/theodor/archiv/20140209_18-32/Paul-Gerhardt.html
DTEND:20140209T190000
DTSTART:20140209T183200
UID:/content/rbb/rbb/theodor/archiv/20140209_18-32/Paul-Gerhardt
DTSTAMP:20140404T233352
DESCRIPTION:Seine Lieder finden sich noch nach mehr als 300 Jahren in jedem evangelischen Gesangsbuch. Paul Gerhardt war einer der größten deutschen Liederdichter. Und einer der ersten, die das Ich in die religiöse Dichtung einführten.\n\n\n
SUMMARY:Paul Gerhardt
END:VEVENT
END:VCALENDAR
