BEGIN:VCALENDAR
X-WR-TIMEZONE:Europe/Berlin
X-WR-CALNAME:rbb-Kalender
VERSION:2.0
METHOD:PUBLISH
CALSCALE:GREGORIAN
PRODID:rbb-CMS DAY
BEGIN:VEVENT
CLASS:PUBLIC
URL:http://www.rbb-online.de/content/rbb/rbb/theodor/archiv/20140209_18-32/Weltkriegslieder.html
DTEND:20140209T190000
DTSTART:20140209T183200
UID:/content/rbb/rbb/theodor/archiv/20140209_18-32/Weltkriegslieder
DTSTAMP:20140404T233113
DESCRIPTION:Mit welchen Liedern auf den Lippen sind deutsche Soldaten vor hundert Jahren in den Krieg gezogen? Die Zeitungen waren voll mit selbstgedichteter Kriegsbegeisterung.\n\n\n
SUMMARY:Weltkriegslieder
END:VEVENT
END:VCALENDAR
